BEGIN:VCALENDAR
VERSION:2.0
PRODID:-//SportPlan//Event Calendar//EN
CALSCALE:GREGORIAN
BEGIN:VEVENT
UID:d3aca180-2c05-4829-8592-059205f93dc5@sportplan.local
DTSTAMP:20260420T205934Z
DTSTART;VALUE=DATE:20260606
DTEND;VALUE=DATE:20260607
SUMMARY:Spitsbergen Marathon
DESCRIPTION:Spitsbergen Marathon arrangeres 6. juni 2026 i Norway. Dette er et godt valg for deltakere som ønsker et godt organisert arrangement på denne destinasjonen. Her ligger alt til rette for en motiverende stemning og en minneverdig dag\, både for erfarne deltakere og nybegynnere.
LOCATION:Norway
URL:https://sportplan.vercel.app/en/events/spitsbergen-marathon-2026-06-06
END:VEVENT
END:VCALENDAR
