BEGIN:VCALENDAR
VERSION:2.0
PRODID:-//SportPlan//Event Calendar//EN
CALSCALE:GREGORIAN
BEGIN:VEVENT
UID:db83370b-34fd-454f-b380-8f003845cb6b@sportplan.local
DTSTAMP:20260420T204835Z
DTSTART;VALUE=DATE:20261031
DTEND;VALUE=DATE:20261101
SUMMARY:Spartan San Luis Potosí 2026 Parque Tangamanga
DESCRIPTION:Spartan San Luis Potosí 2026 Parque Tangamanga is an official Spartan Mexico amateur OCR event in San Luis Potosí on 31 October 2026. The official event page places it at Parque Tangamanga and lists open-participation Sprint\, Super\, and Kids race options\, giving SportPlan a second official Spartan Mexico event beyond Michoacán from the same repeatable source family.
LOCATION:Parque Tangamanga\, San Luis Potosí
URL:https://sportplan.vercel.app/en/events/spartan-san-luis-potosi-2026-parque-tangamanga-2026-san-luis-potosi-2026-10-31
END:VEVENT
END:VCALENDAR
