BEGIN:VCALENDAR
VERSION:2.0
PRODID:-//SportPlan//Event Calendar//EN
CALSCALE:GREGORIAN
BEGIN:VEVENT
UID:0e6dc98d-1e3d-4bc8-9a6d-b828eb25bed0@sportplan.local
DTSTAMP:20260420T204204Z
DTSTART;VALUE=DATE:20261011
DTEND;VALUE=DATE:20261012
SUMMARY:SPAR Budapest Marathon
DESCRIPTION:Official site for the 41st SPAR Budapest Maraton Fesztivál on 10 to 11 October 2026.
LOCATION:Budapest\, Hungary
URL:https://sportplan.vercel.app/en/events/spar-budapest-marathon-2026-10-11
END:VEVENT
END:VCALENDAR
