BEGIN:VCALENDAR
VERSION:2.0
PRODID:-//SportPlan//Event Calendar//EN
CALSCALE:GREGORIAN
BEGIN:VEVENT
UID:af6a3731-9845-4f3c-af4e-ed312885980e@sportplan.local
DTSTAMP:20260420T204205Z
DTSTART;VALUE=DATE:20261010
DTEND;VALUE=DATE:20261011
SUMMARY:SPAR Budapest Marathon
DESCRIPTION:Official site for the 41st SPAR Budapest Maraton Fesztivál on 10 to 11 October 2026.
LOCATION:Budapest\, Hungary
URL:https://sportplan.vercel.app/en/events/spar-budapest-marathon-2026-10-10
END:VEVENT
END:VCALENDAR
