BEGIN:VCALENDAR
VERSION:2.0
PRODID:-//SportPlan//Event Calendar//EN
CALSCALE:GREGORIAN
BEGIN:VEVENT
UID:a4faa070-55dd-431a-bb22-83e57c883ad3@sportplan.local
DTSTAMP:20260420T180905Z
DTSTART;VALUE=DATE:20260501
DTEND;VALUE=DATE:20260502
SUMMARY:Spain Backayrd Ultra
DESCRIPTION:Spain Backayrd Ultra se celebrará el 1/5/2026 en Castro Caldelas\, Ourense\, Galicia\, ES\, con un recorrido de 255 km. Es una gran oportunidad para disfrutar del ambiente del evento\, marcarte un objetivo deportivo y vivir una jornada activa en un entorno especial.
LOCATION:Castro Caldelas\, Ourense\, Galicia
URL:https://sportplan.vercel.app/en/events/spain-backayrd-ultra-castro-caldelas-2026-05-01-255k
END:VEVENT
END:VCALENDAR
