BEGIN:VCALENDAR
VERSION:2.0
PRODID:-//SportPlan//Event Calendar//EN
CALSCALE:GREGORIAN
BEGIN:VEVENT
UID:c13f7984-d856-4e78-8d74-26a092539d55@sportplan.local
DTSTAMP:20260420T181146Z
DTSTART;VALUE=DATE:20260705
DTEND;VALUE=DATE:20260706
SUMMARY:SOY LEYENDA Gravel Btt 2026 — MARATON BTT 100K
DESCRIPTION:SOY LEYENDA Gravel Btt 2026 — MARATON BTT 100K se celebrará el 5 de julio de 2026 en Villarrobledo. Es una cita ideal para quienes buscan una experiencia bien organizada con un recorrido de 100 km y un ambiente deportivo atractivo. Participar en esta prueba es una gran oportunidad para disfrutar del recorrido\, marcarse un objetivo y vivir el evento junto a otros corredores.
LOCATION:Villarrobledo
URL:https://sportplan.vercel.app/en/events/soy-leyenda-gravel-btt-2026-maraton-btt-100k-villarrobledo-2026-07-05
END:VEVENT
END:VCALENDAR
