BEGIN:VCALENDAR
VERSION:2.0
PRODID:-//SportPlan//Event Calendar//EN
CALSCALE:GREGORIAN
BEGIN:VEVENT
UID:5d03e2d8-2cb8-4897-a728-c2cde7e1dd74@sportplan.local
DTSTAMP:20260420T180638Z
DTSTART;VALUE=DATE:20260705
DTEND;VALUE=DATE:20260706
SUMMARY:Soy Leyenda Gravel BTT 2026 — Extreme Gravel 160K Parejas 160K
DESCRIPTION:Soy Leyenda Gravel BTT 2026 — Extreme Gravel 160K Parejas 160K se celebrará el 5 de julio de 2026 en Villarrobledo. Es una buena cita para participantes que buscan una experiencia deportiva bien organizada y un ambiente motivador. El recorrido cubre aproximadamente 160 km. Consulta la información oficial del evento para conocer horarios\, recorridos y detalles logísticos.
LOCATION:Villarrobledo
URL:https://sportplan.vercel.app/en/events/soy-leyenda-gravel-btt-2026-extreme-gravel-160k-parejas-160k-villarrobledo-2026-07-05
END:VEVENT
END:VCALENDAR
