BEGIN:VCALENDAR
VERSION:2.0
PRODID:-//SportPlan//Event Calendar//EN
CALSCALE:GREGORIAN
BEGIN:VEVENT
UID:e005cb95-6fb6-4a5e-bd08-d2a1d04e74ae@sportplan.local
DTSTAMP:20260420T210342Z
DTSTART;VALUE=DATE:20270319
DTEND;VALUE=DATE:20270320
SUMMARY:SkateBirken 53K 2027
DESCRIPTION:SkateBirken is Birken’s mass-participation free-technique ski race across the Norwegian mountains. The official Birken event page confirms the 2027 edition on Friday 19 March as a 53 km skate race from Rena to Lillehammer\, open to both recreational and elite participants\, with entry allowed from age 16.
LOCATION:Tingstadjordet\, Rena to Lillehammer\, Innlandet\, Norway
URL:https://sportplan.vercel.app/en/events/skatebirken-53k-2027-rena-2027-03-19
END:VEVENT
END:VCALENDAR
