BEGIN:VCALENDAR
VERSION:2.0
PRODID:-//SportPlan//Event Calendar//EN
CALSCALE:GREGORIAN
BEGIN:VEVENT
UID:e3239c03-0b8e-4840-b744-076cf88a577d@sportplan.local
DTSTAMP:20260420T204710Z
DTSTART;VALUE=DATE:20260905
DTEND;VALUE=DATE:20260906
SUMMARY:Široki kros duatlon 2026
DESCRIPTION:Široki kros duatlon 2026 is an official Bosnia and Herzegovina federation cross duathlon in Široki Brijeg on 5 September 2026. The TPSBiH official homepage calendar lists it as an international competition and cup race in sprint cross duathlon\, organized by SK Trkač Široki Brijeg.
LOCATION:Široki Brijeg
URL:https://sportplan.vercel.app/en/events/siroki-kros-duatlon-siroki-brijeg-2026-09-05
END:VEVENT
END:VCALENDAR
