BEGIN:VCALENDAR
VERSION:2.0
PRODID:-//SportPlan//Event Calendar//EN
CALSCALE:GREGORIAN
BEGIN:VEVENT
UID:4e5e91bb-a002-4de5-84b4-929339eabf84@sportplan.local
DTSTAMP:20260420T180302Z
DTSTART;VALUE=DATE:20260425
DTEND;VALUE=DATE:20260426
SUMMARY:Singapore T100 Triathlon Participant Info
DESCRIPTION:Singapore T100 Triathlon is the age-group athlete participation event at the Singapore T100 weekend on 25 to 26 April 2026. The official athlete-facing participate page is the safest canonical destination for amateur entrants\, while the former event-info page is a support subpage rather than the main event landing page.
LOCATION:Marina Bay\, Singapore
URL:https://sportplan.vercel.app/en/events/singapore-t100-triathlon-participant-info-2026-04-25
END:VEVENT
END:VCALENDAR
