BEGIN:VCALENDAR
VERSION:2.0
PRODID:-//SportPlan//Event Calendar//EN
CALSCALE:GREGORIAN
BEGIN:VEVENT
UID:3f8a5205-3ade-4e3c-acb6-e8f388c8e2e7@sportplan.local
DTSTAMP:20260420T191803Z
DTSTART;VALUE=DATE:20260430
DTEND;VALUE=DATE:20260503
SUMMARY:Sinai Mountain Challenge 2026
DESCRIPTION:Sinai Mountain Challenge 2026 is an official amateur mountain challenge in the St. Katherine Protectorate\, Sinai\, Egypt from 30 April to 2 May 2026. The official Ultra Ibex race page confirms the 2026 edition dates\, states that the event is a limited-entry challenge open to runners and hikers alike\, and offers Three Peaks\, Four Peaks\, and Two Peaks options in the St. Katherine mountain range.
LOCATION:St. Katherine Protectorate
URL:https://sportplan.vercel.app/en/events/sinai-mountain-challenge-2026-st-katherine-2026-04-30
END:VEVENT
END:VCALENDAR
