BEGIN:VCALENDAR
VERSION:2.0
PRODID:-//SportPlan//Event Calendar//EN
CALSCALE:GREGORIAN
BEGIN:VEVENT
UID:7c19ba71-3472-407d-9746-deca6b1671c8@sportplan.local
DTSTAMP:20260420T204847Z
DTSTART;VALUE=DATE:20260523
DTEND;VALUE=DATE:20260524
SUMMARY:Shoppers Drug Mart Run for Women Oakville
DESCRIPTION:
LOCATION:Oakville
URL:https://sportplan.vercel.app/en/events/shoppers-drug-mart-run-for-women-oakville-oakville-2026-05-23
END:VEVENT
END:VCALENDAR
