BEGIN:VCALENDAR
VERSION:2.0
PRODID:-//SportPlan//Event Calendar//EN
CALSCALE:GREGORIAN
BEGIN:VEVENT
UID:bd30b3ff-aecd-4b71-8703-cf82183eff34@sportplan.local
DTSTAMP:20260420T192112Z
DTSTART;VALUE=DATE:20260503
DTEND;VALUE=DATE:20260504
SUMMARY:Sherry Marathon Jerez 2026
DESCRIPTION:Sherry Marathon Jerez 2026 se celebra en Jerez de la Frontera\, Cádiz el 3 de mayo de 2026\, una buena oportunidad para disfrutar del ambiente de carrera en este destino. La distancia anunciada es de 42.2 km. Se espera una jornada animada\, con apoyo del público y un recorrido atractivo tanto para corredores habituales como para quienes buscan un nuevo reto.
LOCATION:Jerez de la Frontera\, Cádiz
URL:https://sportplan.vercel.app/en/events/sherry-marathon-jerez-2026-jerez-de-la-frontera-2026-05-03
END:VEVENT
END:VCALENDAR
