BEGIN:VCALENDAR
VERSION:2.0
PRODID:-//SportPlan//Event Calendar//EN
CALSCALE:GREGORIAN
BEGIN:VEVENT
UID:26710b1b-a771-45b9-a991-5aba8b866f08@sportplan.local
DTSTAMP:20260420T234730Z
DTSTART;VALUE=DATE:20260620
DTEND;VALUE=DATE:20260621
SUMMARY:Sen Nocy Letniej
DESCRIPTION:
LOCATION:Bydgoszcz
URL:https://sportplan.vercel.app/en/events/sen-nocy-letniej-sen-nocy-letniej-bydgoszcz-2026-06-20
END:VEVENT
END:VCALENDAR
