BEGIN:VCALENDAR
VERSION:2.0
PRODID:-//SportPlan//Event Calendar//EN
CALSCALE:GREGORIAN
BEGIN:VEVENT
UID:5a93c5a6-c739-49c3-83d8-0a2571b692ca@sportplan.local
DTSTAMP:20260420T180903Z
DTSTART;VALUE=DATE:20260426
DTEND;VALUE=DATE:20260427
SUMMARY:Semi-marathon de Monéteau
DESCRIPTION:Semi-marathon de Monéteau aura lieu le 26 avril 2026 à Monéteau\, avec un parcours de 21\,1 km. C'est un rendez-vous idéal pour les coureurs à la recherche d'une course bien organisée et d'une belle ambiance le jour de l'épreuve.
LOCATION:Monéteau
URL:https://sportplan.vercel.app/en/events/semi-marathon-de-moneteau-moneteau-2026-04-26
END:VEVENT
END:VCALENDAR
