BEGIN:VCALENDAR
VERSION:2.0
PRODID:-//SportPlan//Event Calendar//EN
CALSCALE:GREGORIAN
BEGIN:VEVENT
UID:e6e701db-ccb5-477f-8369-2f3a558ea4cc@sportplan.local
DTSTAMP:20260420T180434Z
DTSTART;VALUE=DATE:20260426
DTEND;VALUE=DATE:20260427
SUMMARY:Semi-marathon Bresse-Dombes
DESCRIPTION:Semi-marathon Bresse-Dombes a lieu le 26 de avril de 2026 à Châtillon-sur-Chalaronne. C'est un rendez-vous intéressant pour les participants à la recherche d'un événement bien organisé dans un cadre agréable. Consultez les informations officielles de l'organisateur pour les horaires\, le retrait des dossards et les détails logistiques.
LOCATION:Châtillon-sur-Chalaronne
URL:https://sportplan.vercel.app/en/events/semi-marathon-bresse-dombes-chatillon-sur-chalaronne-2026-04-26
END:VEVENT
END:VCALENDAR
