BEGIN:VCALENDAR
VERSION:2.0
PRODID:-//SportPlan//Event Calendar//EN
CALSCALE:GREGORIAN
BEGIN:VEVENT
UID:f7dc2c4f-f9d1-481d-84e5-ebd70963a4f9@sportplan.local
DTSTAMP:20260420T194616Z
DTSTART;VALUE=DATE:20260913
DTEND;VALUE=DATE:20260914
SUMMARY:Sembalun Mountain Marathon
DESCRIPTION:Discovered via World’s Marathons country page\; adds Indonesia mountain/trail coverage.
LOCATION:West Nusa Tenggara\, Indonesia
URL:https://sportplan.vercel.app/en/events/sembalun-mountain-marathon-2026-09-13
END:VEVENT
END:VCALENDAR
