BEGIN:VCALENDAR
VERSION:2.0
PRODID:-//SportPlan//Event Calendar//EN
CALSCALE:GREGORIAN
BEGIN:VEVENT
UID:119b7e6d-76d2-4a99-b8ab-bc2b4abcb69e@sportplan.local
DTSTAMP:20260420T210811Z
DTSTART;VALUE=DATE:20260516
DTEND;VALUE=DATE:20260517
SUMMARY:Saucony Helsinki City Marathon 2026
DESCRIPTION:The 46th Helsinki City Marathon is the largest and oldest marathon in Finland. The official event page describes a route with seaside\, park\, and downtown sections\, starting by Mäntymäentie next to the Paavo Nurmi statue and finishing at the iconic Helsinki Olympic Stadium on 16 May 2026.
LOCATION:Paavo Nurmi statue / Helsinki Olympic Stadium\, Helsinki
URL:https://sportplan.vercel.app/en/events/saucony-helsinki-city-marathon-2026-2026-05-16
END:VEVENT
END:VCALENDAR
