BEGIN:VCALENDAR
VERSION:2.0
PRODID:-//SportPlan//Event Calendar//EN
CALSCALE:GREGORIAN
BEGIN:VEVENT
UID:c9821fa4-9541-4a8c-a669-082eef91ac58@sportplan.local
DTSTAMP:20260420T193543Z
DTSTART;VALUE=DATE:20260508
DTEND;VALUE=DATE:20260509
SUMMARY:Sardinia Trail
DESCRIPTION:Sardinia Trail si svolge il 8 maggio 2026 a Fonni ed è un’ottima occasione per chi cerca un’esperienza sportiva ben organizzata. L’evento propone un percorso con un percorso ben segnalato\, pensato per godersi l’ambiente\, mantenere un buon ritmo e condividere la giornata con altri partecipanti.
LOCATION:Fonni
URL:https://sportplan.vercel.app/en/events/sardinia-trail-fonni-2026-05-08
END:VEVENT
END:VCALENDAR
