BEGIN:VCALENDAR
VERSION:2.0
PRODID:-//SportPlan//Event Calendar//EN
CALSCALE:GREGORIAN
BEGIN:VEVENT
UID:6f1919c3-4f83-4d03-8fcf-d1995dce5943@sportplan.local
DTSTAMP:20260420T222521Z
DTSTART;VALUE=DATE:20260201
DTEND;VALUE=DATE:20260202
SUMMARY:Sapporo International Ski Marathon 50K 2026
DESCRIPTION:The Sapporo International Ski Marathon is a public cross-country ski event in Sapporo with open 50 km\, 25 km and 10 km races at Shirahatayama Open Stadium. The official race information page lists the 46th edition on 1 February 2026\, and Worldloppet confirms it as an amateur mass-participation member race in Japan.
LOCATION:Shirahatayama Open Stadium\, Sapporo\, Hokkaido\, Japan
URL:https://sportplan.vercel.app/en/events/sapporo-international-ski-marathon-50k-2026-sapporo-2026-02-01
END:VEVENT
END:VCALENDAR
