BEGIN:VCALENDAR
VERSION:2.0
PRODID:-//SportPlan//Event Calendar//EN
CALSCALE:GREGORIAN
BEGIN:VEVENT
UID:02366cec-2ea7-4cfd-8e82-c023d21bce28@sportplan.local
DTSTAMP:20260420T192149Z
DTSTART;VALUE=DATE:20261018
DTEND;VALUE=DATE:20261019
SUMMARY:Santa Cruz Extreme - Trail 33K
DESCRIPTION:Santa Cruz Extreme - Trail 33K se celebrará el 18 de octubre de 2026 en Santa Cruz de Tenerife\, Tenerife\, Canarias\, reuniendo a participantes que buscan una jornada deportiva bien organizada. La prueba propone un recorrido de 33 km que combina reto y disfrute. Es una excelente oportunidad para disfrutar del ambiente local\, marcarse un objetivo de temporada y vivir el evento con buena energía.
LOCATION:Santa Cruz de Tenerife\, Tenerife\, Canarias
URL:https://sportplan.vercel.app/en/events/santa-cruz-extreme-trail-33k-santa-cruz-de-tenerife-2026-10-18-33k
END:VEVENT
END:VCALENDAR
