BEGIN:VCALENDAR
VERSION:2.0
PRODID:-//SportPlan//Event Calendar//EN
CALSCALE:GREGORIAN
BEGIN:VEVENT
UID:70ece04d-f375-4af3-92f2-11028bd10af8@sportplan.local
DTSTAMP:20260420T192139Z
DTSTART;VALUE=DATE:20261018
DTEND;VALUE=DATE:20261019
SUMMARY:Santa Cruz Extreme Marathon 60K
DESCRIPTION:Santa Cruz Extreme Marathon 60K se celebrará el 18 de octubre de 2026 en Santa Cruz de Tenerife\, Tenerife\, Canarias\, reuniendo a participantes que buscan una jornada deportiva bien organizada. La prueba propone un recorrido de 60 km que combina reto y disfrute. Es una excelente oportunidad para disfrutar del ambiente local\, marcarse un objetivo de temporada y vivir el evento con buena energía.
LOCATION:Santa Cruz de Tenerife\, Tenerife\, Canarias
URL:https://sportplan.vercel.app/en/events/santa-cruz-extreme-marathon-60k-santa-cruz-de-tenerife-2026-10-18-60k
END:VEVENT
END:VCALENDAR
