BEGIN:VCALENDAR
VERSION:2.0
PRODID:-//SportPlan//Event Calendar//EN
CALSCALE:GREGORIAN
BEGIN:VEVENT
UID:dfb3ddf2-6b53-4b6d-9c86-ab475a8a7a0e@sportplan.local
DTSTAMP:20260420T180948Z
DTSTART;VALUE=DATE:20260601
DTEND;VALUE=DATE:20260602
SUMMARY:Santa Ana Trail
DESCRIPTION:Santa Ana Trail se celebra el 1 de junio de 2026 en Llosa de Ranes\, Valencia\, Comunidad Valenciana. Es una excelente opción para quienes quieren disfrutar de un evento bien organizado en este destino. La prueba recorre 19 km. Se espera un ambiente animado y una jornada memorable tanto para corredores habituales como para debutantes.
LOCATION:Llosa de Ranes\, Valencia\, Comunidad Valenciana
URL:https://sportplan.vercel.app/en/events/santa-ana-trail-llosa-de-ranes-2026-06-01-19k
END:VEVENT
END:VCALENDAR
