BEGIN:VCALENDAR
VERSION:2.0
PRODID:-//SportPlan//Event Calendar//EN
CALSCALE:GREGORIAN
BEGIN:VEVENT
UID:0a8cb3c9-c763-45dd-ab1c-8279ba543e1a@sportplan.local
DTSTAMP:20260420T191737Z
DTSTART;VALUE=DATE:20261226
DTEND;VALUE=DATE:20261227
SUMMARY:Sansilbestrail
DESCRIPTION:Sansilbestrail se celebrará el 26 de diciembre de 2026 en Zubiri\, Navarra. Es una buena cita para quienes quieren vivir el ambiente del evento en directo y planificar la jornada con antelación. La sede prevista está a unos 20 km\, así que conviene revisar accesos\, horarios y servicios antes de salir.
LOCATION:Zubiri\, Navarra
URL:https://sportplan.vercel.app/en/events/sansilbestrail-zubiri-2026-12-26
END:VEVENT
END:VCALENDAR
