BEGIN:VCALENDAR
VERSION:2.0
PRODID:-//SportPlan//Event Calendar//EN
CALSCALE:GREGORIAN
BEGIN:VEVENT
UID:b05894ed-1f9d-476c-b685-bf715ab5baf3@sportplan.local
DTSTAMP:20260420T204653Z
DTSTART;VALUE=DATE:20260618
DTEND;VALUE=DATE:20260621
SUMMARY:Salomon Zugspitz Ultratrail
DESCRIPTION:Salomon Zugspitz Ultratrail findet am 18. Juni 2026 in Grainau statt. Die Veranstaltung bietet eine gute Gelegenheit\, die besondere Atmosphäre vor Ort zu erleben und gemeinsam mit anderen Teilnehmenden dabei zu sein. Prüfen Sie die Veranstaltungsdetails rechtzeitig\, um Ihre Teilnahme optimal zu planen.
LOCATION:Grainau
URL:https://sportplan.vercel.app/en/events/salomon-zugspitz-ultratrail-grainau-2026-06-18
END:VEVENT
END:VCALENDAR
