BEGIN:VCALENDAR
VERSION:2.0
PRODID:-//SportPlan//Event Calendar//EN
CALSCALE:GREGORIAN
BEGIN:VEVENT
UID:102cf718-8bc9-4e16-9cd1-6bd66776a6d4@sportplan.local
DTSTAMP:20260420T220744Z
DTSTART;VALUE=DATE:20260628
DTEND;VALUE=DATE:20260629
SUMMARY:SAIL Challenge Québec
DESCRIPTION:SAIL Challenge Québec is an official amateur participation triathlon festival in Québec\, Canada on 28 June 2026. The official Challenge Family race page highlights middle and long distance racing plus shorter community-friendly formats in Québec City.
LOCATION:Québec\, Canada
URL:https://sportplan.vercel.app/en/events/sail-challenge-quebec-2026-quebec-2026-06-28
END:VEVENT
END:VCALENDAR
