BEGIN:VCALENDAR
VERSION:2.0
PRODID:-//SportPlan//Event Calendar//EN
CALSCALE:GREGORIAN
BEGIN:VEVENT
UID:8004d0d5-1bbd-417e-8fc1-1dbb05b6cd6f@sportplan.local
DTSTAMP:20260420T210531Z
DTSTART;VALUE=DATE:20260531
DTEND;VALUE=DATE:20260601
SUMMARY:Ruukki Triathlon 2026
DESCRIPTION:Ruukki Triathlon 2026 is an official amateur triathlon in Kellokoski\, Finland on 31 May 2026. The event is linked from the Suomen Triathlonliitto 2026 calendar and the official event page says Järvenpään Pyöräilijät organizes it at Kellokosken Ruukki\, with open participation across sprint distance\, a shortened Ruukin erikoinen format\, and a relay.
LOCATION:Kellokosken ruukki\, Kellokoski
URL:https://sportplan.vercel.app/en/events/ruukki-triathlon-2026-2026-05-31
END:VEVENT
END:VCALENDAR
