BEGIN:VCALENDAR
VERSION:2.0
PRODID:-//SportPlan//Event Calendar//EN
CALSCALE:GREGORIAN
BEGIN:VEVENT
UID:8096b31e-8685-4966-a979-a2f533872dd9@sportplan.local
DTSTAMP:20260420T191935Z
DTSTART;VALUE=DATE:20260501
DTEND;VALUE=DATE:20260502
SUMMARY:Ruta Vetona - Mini Vetona
DESCRIPTION:Ruta Vetona - Mini Vetona se celebrará el 1 de mayo de 2026 en Béjar\, Salamanca\, Castilla y León. Es una buena opción para quienes buscan sumar una experiencia deportiva bien organizada sobre una distancia de unos 16 km. Ideal tanto para participantes habituales como para quienes quieren marcarse un nuevo reto en el calendario.
LOCATION:Béjar\, Salamanca\, Castilla y León
URL:https://sportplan.vercel.app/en/events/ruta-vetona-mini-vetona-bejar-2026-05-01-16k
END:VEVENT
END:VCALENDAR
