BEGIN:VCALENDAR
VERSION:2.0
PRODID:-//SportPlan//Event Calendar//EN
CALSCALE:GREGORIAN
BEGIN:VEVENT
UID:e0e4f02d-6326-4475-8600-ddff63e4f054@sportplan.local
DTSTAMP:20260420T175413Z
DTSTART;VALUE=DATE:20260628
DTEND;VALUE=DATE:20260629
SUMMARY:Running Château de Versailles
DESCRIPTION:Running Château de Versailles aura lieu le 2026-06-28 à Versalles. C'est une belle opportunité pour les participants à la recherche d'un événement sportif bien organisé dans un cadre attractif. L'ambiance conviendra autant aux coureurs ambitieux qu'à ceux qui veulent simplement profiter de la journée.
LOCATION:Versalles
URL:https://sportplan.vercel.app/en/events/running-chateau-de-versailles-versalles-2026-06-28
END:VEVENT
END:VCALENDAR
