BEGIN:VCALENDAR
VERSION:2.0
PRODID:-//SportPlan//Event Calendar//EN
CALSCALE:GREGORIAN
BEGIN:VEVENT
UID:13ee5cf5-36b5-4062-8342-1b142893225c@sportplan.local
DTSTAMP:20260420T175348Z
DTSTART;VALUE=DATE:20260501
DTEND;VALUE=DATE:20260502
SUMMARY:Running Babybel - Evron
DESCRIPTION:
LOCATION:Evron
URL:https://sportplan.vercel.app/en/events/running-babybel-evron-evron-2026-05-01
END:VEVENT
END:VCALENDAR
