BEGIN:VCALENDAR
VERSION:2.0
PRODID:-//SportPlan//Event Calendar//EN
CALSCALE:GREGORIAN
BEGIN:VEVENT
UID:7538aa70-c7da-43da-beb1-984e89372599@sportplan.local
DTSTAMP:20260420T204607Z
DTSTART;VALUE=DATE:20260517
DTEND;VALUE=DATE:20260518
SUMMARY:Rund um Köln Velodom 120 2026
DESCRIPTION:Official mass participation road cycling event within the Rund um Köln cycling classic on 17 May 2026. The organizer describes the 2026 edition as a combination of elite and granfondo races\, including the Velodom 120 for amateur riders on the classic Cologne and Bergisches Land route.
LOCATION:Cologne\, North Rhine-Westphalia
URL:https://sportplan.vercel.app/en/events/rund-um-koln-velodom-120-2026-cologne-2026-05-17
END:VEVENT
END:VCALENDAR
