BEGIN:VCALENDAR
VERSION:2.0
PRODID:-//SportPlan//Event Calendar//EN
CALSCALE:GREGORIAN
BEGIN:VEVENT
UID:7efcb2b3-0232-4b01-b600-f0343ba01c96@sportplan.local
DTSTAMP:20260420T230145Z
DTSTART;VALUE=DATE:20260927
DTEND;VALUE=DATE:20260928
SUMMARY:Run2day Halve van Haarlem
DESCRIPTION:Run2day Halve van Haarlem vindt plaats op 27 september 2026 in Haarlem en biedt een sportief evenement met een sterke sfeer en een verzorgde organisatie. Dit is een mooie kans om van de omgeving te genieten\, samen met andere deelnemers op pad te zijn en de energie van start tot finish mee te maken.
LOCATION:Haarlem
URL:https://sportplan.vercel.app/en/events/run2day-halve-van-haarlem-haarlem-2026-09-27
END:VEVENT
END:VCALENDAR
