BEGIN:VCALENDAR
VERSION:2.0
PRODID:-//SportPlan//Event Calendar//EN
CALSCALE:GREGORIAN
BEGIN:VEVENT
UID:4e15e53c-7ab6-4c45-8716-31762972d9a3@sportplan.local
DTSTAMP:20260420T221750Z
DTSTART;VALUE=DATE:20260905
DTEND;VALUE=DATE:20260906
SUMMARY:Run Port Douglas 21.1km Half Marathon
DESCRIPTION:discovered via direct fetch of official Run Port Douglas race page\; half marathon around Port Douglas with climb section and beach finish
LOCATION:Port Douglas\, Queensland\, Australia
URL:https://sportplan.vercel.app/en/events/run-port-douglas-21-1km-half-marathon-2026-09-05
END:VEVENT
END:VCALENDAR
