BEGIN:VCALENDAR
VERSION:2.0
PRODID:-//SportPlan//Event Calendar//EN
CALSCALE:GREGORIAN
BEGIN:VEVENT
UID:afdb9ead-c8ad-4355-bc18-d75732d8dfae@sportplan.local
DTSTAMP:20260420T180436Z
DTSTART;VALUE=DATE:20260607
DTEND;VALUE=DATE:20260608
SUMMARY:Rosebud Running Festival
DESCRIPTION:Rosebud Running Festival takes place in Rosebud on June 7\, 2026. It is a great opportunity to enjoy the atmosphere of the event and be part of a well-organized sporting experience. A strong choice for participants aiming to challenge themselves as well as anyone looking for an active day in a memorable setting.
LOCATION:Rosebud
URL:https://sportplan.vercel.app/en/events/rosebud-running-festival-rosebud-2026-06-07
END:VEVENT
END:VCALENDAR
