BEGIN:VCALENDAR
VERSION:2.0
PRODID:-//SportPlan//Event Calendar//EN
CALSCALE:GREGORIAN
BEGIN:VEVENT
UID:d198c54b-e870-4da8-a642-d2f07fae2ab0@sportplan.local
DTSTAMP:20260420T210531Z
DTSTART;VALUE=DATE:20260502
DTEND;VALUE=DATE:20260503
SUMMARY:Road race - Herzelia
DESCRIPTION:discovered via official World Athletics calendar\; Israel selected after queue count review as a low-coverage country. URL is an event-specific official calendar filter because direct standalone event slugs are not exposed in the page data.
LOCATION:Herzelia
URL:https://sportplan.vercel.app/en/events/road-race-herzelia-2026-05-02
END:VEVENT
END:VCALENDAR
