BEGIN:VCALENDAR
VERSION:2.0
PRODID:-//SportPlan//Event Calendar//EN
CALSCALE:GREGORIAN
BEGIN:VEVENT
UID:4dd881f8-fafc-434f-9641-138003bbc611@sportplan.local
DTSTAMP:20260420T204845Z
DTSTART;VALUE=DATE:20260503
DTEND;VALUE=DATE:20260504
SUMMARY:Rimi Riga Marathon — Signet Bank Relays 2026
DESCRIPTION:Relay format (2-person teams) for both 42K and 21K distances\; registration until Apr 30\, 2026\; LV duathlon/relay variety expansion — Beast Special 2026-03-30
LOCATION:Riga\, Latvia
URL:https://sportplan.vercel.app/en/events/rimi-riga-marathon-signet-bank-relays-2026-2026-05-03
END:VEVENT
END:VCALENDAR
