BEGIN:VCALENDAR
VERSION:2.0
PRODID:-//SportPlan//Event Calendar//EN
CALSCALE:GREGORIAN
BEGIN:VEVENT
UID:4bd3dfab-7425-421a-adfb-07d582b4b361@sportplan.local
DTSTAMP:20260420T204532Z
DTSTART;VALUE=DATE:20260503
DTEND;VALUE=DATE:20260504
SUMMARY:Rimi Riga Marathon 2026 — Registration
DESCRIPTION:Official registration page for Rimi Riga Marathon 2026\; relay registration open until Apr 30\, 2026\; multiple distances\; LV running coverage expansion — Beast Special 2026-03-30
LOCATION:Riga\, Latvia
URL:https://sportplan.vercel.app/en/events/rimi-riga-marathon-2026-registration-2026-05-03
END:VEVENT
END:VCALENDAR
