BEGIN:VCALENDAR
VERSION:2.0
PRODID:-//SportPlan//Event Calendar//EN
CALSCALE:GREGORIAN
BEGIN:VEVENT
UID:6f444670-a26b-4a6d-b65e-872ac1577816@sportplan.local
DTSTAMP:20260420T204408Z
DTSTART;VALUE=DATE:20260503
DTEND;VALUE=DATE:20260504
SUMMARY:Rimi Riga Marathon 2026
DESCRIPTION:Official Rimi Riga Marathon website (rigamarathon.com redirects here)\; 2026 edition confirmed\; 42K/21K/10K/5K/1 mile/Kids\; UNESCO Old Town course\; Baltic's largest running event\; confirmed HTTP 200\; LV running variety expansion — Beast Special 2026-03-30
LOCATION:Riga\, Latvia
URL:https://sportplan.vercel.app/en/events/rimi-riga-marathon-2026-2026-05-03
END:VEVENT
END:VCALENDAR
