BEGIN:VCALENDAR
VERSION:2.0
PRODID:-//SportPlan//Event Calendar//EN
CALSCALE:GREGORIAN
BEGIN:VEVENT
UID:df783a65-afd2-4326-bdc2-a3602582c62a@sportplan.local
DTSTAMP:20260420T204841Z
DTSTART;VALUE=DATE:20261122
DTEND;VALUE=DATE:20261123
SUMMARY:Ride Joburg Road 2026
DESCRIPTION:
LOCATION:Johannesburg\, Gauteng
URL:https://sportplan.vercel.app/en/events/ride-joburg-road-2026-johannesburg-2026-11-22
END:VEVENT
END:VCALENDAR
