BEGIN:VCALENDAR
VERSION:2.0
PRODID:-//SportPlan//Event Calendar//EN
CALSCALE:GREGORIAN
BEGIN:VEVENT
UID:35a46af9-7c5a-4a8d-9c52-385f3265030f@sportplan.local
DTSTAMP:20260420T210430Z
DTSTART;VALUE=DATE:20260627
DTEND;VALUE=DATE:20260628
SUMMARY:Riaño Trail Run - 2xtrail
DESCRIPTION:Riaño Trail Run - 2xtrail se celebrará el 2026-06-27 en Riaño\, León\, Castilla y León. Es una buena opción para quienes buscan un reto bien organizado sobre una distancia de 36 km. Ideal tanto para participantes que quieren competir como para quienes prefieren disfrutar del ambiente del evento.
LOCATION:Riaño\, León\, Castilla y León
URL:https://sportplan.vercel.app/en/events/riano-trail-run-2xtrail-riano-2026-06-27-36k
END:VEVENT
END:VCALENDAR
