BEGIN:VCALENDAR
VERSION:2.0
PRODID:-//SportPlan//Event Calendar//EN
CALSCALE:GREGORIAN
BEGIN:VEVENT
UID:f6ef5900-a45f-4786-824e-d65218c42a78@sportplan.local
DTSTAMP:20260420T230053Z
DTSTART;VALUE=DATE:20260503
DTEND;VALUE=DATE:20260504
SUMMARY:Rev3 Nanticoke River
DESCRIPTION:Rev3 Nanticoke River takes place in Bivalve on May 3\, 2026\, offering participants a great chance to enjoy the atmosphere of race day in this destination. The route distance is to be confirmed. Expect an energizing event environment\, local support on site\, and a course suited to both dedicated runners and motivated newcomers.
LOCATION:Bivalve
URL:https://sportplan.vercel.app/en/events/rev3-nanticoke-river-bivalve-2026-05-03
END:VEVENT
END:VCALENDAR
