BEGIN:VCALENDAR
VERSION:2.0
PRODID:-//SportPlan//Event Calendar//EN
CALSCALE:GREGORIAN
BEGIN:VEVENT
UID:3acba41a-50c4-4902-af70-95a59152ebbc@sportplan.local
DTSTAMP:20260420T204607Z
DTSTART;VALUE=DATE:20260607
DTEND;VALUE=DATE:20260608
SUMMARY:Reconco Gerês Granfondo 2026
DESCRIPTION:Reconco Gerês Granfondo 2026 is an official amateur road cycling granfondo in Gerês\, Portugal on 7 June 2026. The official organizer page presents three open-participation distances\, 56 km minifondo\, 89 km mediofondo and 130 km granfondo\, crossing Peneda-Gerês National Park landscapes around Vieira do Minho and Terras de Bouro\, including Cabreira\, Salamonde\, Venda Nova and the climbs of Pincães and Ermida.
LOCATION:Gerês\, Viana do Castelo\, Portugal
URL:https://sportplan.vercel.app/en/events/reconco-geres-granfondo-2026-geres-2026-06-07
END:VEVENT
END:VCALENDAR
