BEGIN:VCALENDAR
VERSION:2.0
PRODID:-//SportPlan//Event Calendar//EN
CALSCALE:GREGORIAN
BEGIN:VEVENT
UID:0bd0e935-6615-4f92-a240-54fb1531eb42@sportplan.local
DTSTAMP:20260420T180422Z
DTSTART;VALUE=DATE:20260524
DTEND;VALUE=DATE:20260601
SUMMARY:Rás Tailteann Cycling 8-Stage 2026
DESCRIPTION:The official Rás Tailteann website is the organizer-run home for Ireland's amateur-enterable stage race. A 2026 event-specific detail page was not directly surfaced from this environment\, so the verified official site root is used as the canonical event website.
LOCATION:Dublin\, Leinster
URL:https://sportplan.vercel.app/en/events/r-s-tailteann-cycling-8-stage-2026-dublin-2026-05-24
END:VEVENT
END:VCALENDAR
