BEGIN:VCALENDAR
VERSION:2.0
PRODID:-//SportPlan//Event Calendar//EN
CALSCALE:GREGORIAN
BEGIN:VEVENT
UID:c90d9174-798d-4c03-8a3b-5a2e035c2dcd@sportplan.local
DTSTAMP:20260420T234737Z
DTSTART;VALUE=DATE:20260501
DTEND;VALUE=DATE:20260504
SUMMARY:Puszcza Festiwal 2026 — Qq Bike – Trasa Rowerowa Z Mapą - Ok. 30 km 30K
DESCRIPTION:
LOCATION:Niepołomice
URL:https://sportplan.vercel.app/en/events/puszcza-festiwal-2026-qq-bike-trasa-rowerowa-z-mapa-ok-30-km-30k-niepo-omice-2026-05-01
END:VEVENT
END:VCALENDAR
