BEGIN:VCALENDAR
VERSION:2.0
PRODID:-//SportPlan//Event Calendar//EN
CALSCALE:GREGORIAN
BEGIN:VEVENT
UID:27b09fde-8280-4396-928e-84a5ed482009@sportplan.local
DTSTAMP:20260420T204610Z
DTSTART;VALUE=DATE:20260517
DTEND;VALUE=DATE:20260518
SUMMARY:PUMA Salzburg Marathon
DESCRIPTION:PUMA Salzburg Marathon findet am 17. Mai 2026 in Salzburg\, Austria statt und verspricht einen starken Lauftag in besonderer Umgebung. Strecke und Atmosphäre machen die Veranstaltung zu einer spannenden Option für alle\, die eine neue Herausforderung suchen.
LOCATION:Salzburg\, Austria
URL:https://sportplan.vercel.app/en/events/puma-salzburg-marathon-2026-05-17
END:VEVENT
END:VCALENDAR
