BEGIN:VCALENDAR
VERSION:2.0
PRODID:-//SportPlan//Event Calendar//EN
CALSCALE:GREGORIAN
BEGIN:VEVENT
UID:12efe7aa-456b-40e0-b081-551e31fe5c94@sportplan.local
DTSTAMP:20260420T180155Z
DTSTART;VALUE=DATE:20260426
DTEND;VALUE=DATE:20260427
SUMMARY:Poseidon Athens Half Marathon
DESCRIPTION:Official Poseidon Athens Half Marathon site for the coastal Athens running event\, with half marathon\, relay\, quarter marathon\, 5K and kids race information.
LOCATION:Greece
URL:https://sportplan.vercel.app/en/events/poseidon-athens-half-marathon-2026-04-26
END:VEVENT
END:VCALENDAR
