BEGIN:VCALENDAR
VERSION:2.0
PRODID:-//SportPlan//Event Calendar//EN
CALSCALE:GREGORIAN
BEGIN:VEVENT
UID:7c6339c3-c675-4cc9-919b-1f4e9b126c7c@sportplan.local
DTSTAMP:20260420T191752Z
DTSTART;VALUE=DATE:20260526
DTEND;VALUE=DATE:20260527
SUMMARY:Põlva 8. teisipäevak
DESCRIPTION:Põlva 8. teisipäevak is an amateur weekday orienteering event in Põlva County\, Estonia. The Estonian Orienteering Federation calendar lists the event for 26 May 2026 with organizer Kobras\, and the official OK Põlva Kobras Tuesday-series schedule names Lutsu küla near the Põlva-Mooste road as the venue.
LOCATION:Lutsu küla\, Põlva vald\, Põlva maakond\, Estonia
URL:https://sportplan.vercel.app/en/events/polva-8-teisipaevak-lutsu-kula-2026-05-26
END:VEVENT
END:VCALENDAR
