BEGIN:VCALENDAR
VERSION:2.0
PRODID:-//SportPlan//Event Calendar//EN
CALSCALE:GREGORIAN
BEGIN:VEVENT
UID:f86dda43-f34c-4b6d-8666-9dcd6d0adb3d@sportplan.local
DTSTAMP:20260420T191725Z
DTSTART;VALUE=DATE:20260512
DTEND;VALUE=DATE:20260513
SUMMARY:Põlva 6. teisipäevak
DESCRIPTION:Põlva 6. teisipäevak is an amateur weekday orienteering event in Põlva County\, Estonia. The Estonian Orienteering Federation calendar lists the event for 12 May 2026 with organizer Kobras and links to the official OK Põlva Kobras Tuesday-series schedule\, which names Liiva near the Karilatsi-Vooreküla road as the venue.
LOCATION:Liiva\, Põlva vald\, Põlva maakond\, Estonia
URL:https://sportplan.vercel.app/en/events/polva-6-teisipaevak-liiva-2026-05-12
END:VEVENT
END:VCALENDAR
