BEGIN:VCALENDAR
VERSION:2.0
PRODID:-//SportPlan//Event Calendar//EN
CALSCALE:GREGORIAN
BEGIN:VEVENT
UID:ef04c9fa-4935-4896-ae48-0a00478d848a@sportplan.local
DTSTAMP:20260420T191804Z
DTSTART;VALUE=DATE:20260811
DTEND;VALUE=DATE:20260812
SUMMARY:Põlva 19. teisipäevak
DESCRIPTION:Põlva 19. teisipäevak is an official amateur orienteering event in the Aarna-Hatiku area of Põlva County\, Estonia on 11 August 2026. The official Estonian Orienteering Federation event detail page confirms the date\, organizer Kobras\, and Põlva-Saverna road 5 km venue context\, while the official OK Põlva Kobras Tuesday-series schedule adds Aarna-Hatiku as the specific location for this public weekday participation event.
LOCATION:Aarna-Hatiku\, Põlva-Saverna tee 5 km
URL:https://sportplan.vercel.app/en/events/polva-19-teisipaevak-aarna-hatiku-2026-08-11
END:VEVENT
END:VCALENDAR
