BEGIN:VCALENDAR
VERSION:2.0
PRODID:-//SportPlan//Event Calendar//EN
CALSCALE:GREGORIAN
BEGIN:VEVENT
UID:9e1ada9c-446a-46d8-a05f-73d9e37952b0@sportplan.local
DTSTAMP:20260420T230053Z
DTSTART;VALUE=DATE:20260714
DTEND;VALUE=DATE:20260715
SUMMARY:Põlva 15. teisipäevak
DESCRIPTION:Põlva 15. teisipäevak is an official amateur orienteering event in Valgesoo\, Põlva County\, Estonia on 14 July 2026. The official Estonian Orienteering Federation event detail page confirms the date\, organizer Kobras\, and Valgesoo küla venue\, while the official OK Põlva Kobras Tuesday-series schedule adds Kiidjärve-Valgesoo and Põlva-Mooste road 6 km location context for this public weekday participation event.
LOCATION:Valgesoo küla\, Kiidjärve-Valgesoo\, Põlva-Mooste tee 6 km
URL:https://sportplan.vercel.app/en/events/polva-15-teisipaevak-valgesoo-2026-07-14
END:VEVENT
END:VCALENDAR
